BEGIN:VCALENDAR
VERSION:2.0
PRODID:-//Světlá Hora//Web//CS
CALSCALE:GREGORIAN
METHOD:PUBLISH
BEGIN:VEVENT
UID:9@svetlahora.cz
DTSTAMP:20260424T121504Z
DTSTART:20260502T150000
DTEND:20260502
SUMMARY:Pozvánka na stavění máje
DESCRIPTION:Stavění máje v Suché Rudné.
LOCATION:Suchá Rudná  náměstíčko U Rakety
URL:https://svetlahora.cz/akce/9/
END:VEVENT
END:VCALENDAR
