BEGIN:VCALENDAR
VERSION:2.0
PRODID:-//Světlá Hora//Web//CS
CALSCALE:GREGORIAN
METHOD:PUBLISH
BEGIN:VEVENT
UID:7@svetlahora.cz
DTSTAMP:20260420T052748Z
DTSTART;VALUE=DATE:20260430
DTEND;VALUE=DATE:20260501
SUMMARY:Čarodějnice a stavění májky
DESCRIPTION:Čarodějnice a stavění májky
LOCATION:fotbalové hřiště Světlá Hora
URL:https://svetlahora.cz/akce/7/
END:VEVENT
END:VCALENDAR
