BEGIN:VCALENDAR
VERSION:2.0
PRODID:-//Světlá Hora//Web//CS
CALSCALE:GREGORIAN
METHOD:PUBLISH
BEGIN:VEVENT
UID:11@svetlahora.cz
DTSTAMP:20260424T133749Z
DTSTART:20260523T190000
DTEND:20260523
SUMMARY:O pohár starosty obce Světlá Hora
DESCRIPTION:XXIX. ročník soutěže O pohár starosty obce Světlá Hora  - hasiči\, ženy\, muži.
LOCATION:areál hasičské zbrojnice ve Světlé Hoře
URL:https://svetlahora.cz/akce/11/
END:VEVENT
END:VCALENDAR
