BEGIN:VCALENDAR
VERSION:2.0
PRODID:-//Světlá Hora//Web//CS
CALSCALE:GREGORIAN
METHOD:PUBLISH
BEGIN:VEVENT
UID:10@svetlahora.cz
DTSTAMP:20260424T133759Z
DTSTART:20260523T100000
DTEND:20260523
SUMMARY:Dětská soutěž - hasiči
DESCRIPTION:XXIX. ročník dětské soutěže O pohár starosty obce Světlá Hora  - hasiči
LOCATION:areál hasičské zbrojnice ve Světlé Hoře
URL:https://svetlahora.cz/akce/10/
END:VEVENT
END:VCALENDAR
