BEGIN:VCALENDAR
VERSION:2.0
PRODID:-//Světlá Hora//Web//CS
CALSCALE:GREGORIAN
METHOD:PUBLISH
BEGIN:VEVENT
UID:2@svetlahora.cz
DTSTAMP:20260420T052923Z
DTSTART;VALUE=DATE:20260405
DTEND;VALUE=DATE:20260406
SUMMARY:Velikonoční koncert Suchá Rudná
DESCRIPTION:<p>Velikonočn&iacute\; koncert v kapli Such&aacute\; Rudn&aacute\;</p>
LOCATION:Suchá Rudná
URL:https://svetlahora.cz/akce/2/
END:VEVENT
END:VCALENDAR
