BEGIN:VCALENDAR
VERSION:2.0
PRODID:-//Světlá Hora//Web//CS
CALSCALE:GREGORIAN
METHOD:PUBLISH
BEGIN:VEVENT
UID:14@svetlahora.cz
DTSTAMP:20260424T133726Z
DTSTART:20260521T150000
DTEND:20260521
SUMMARY:Školní akademie
DESCRIPTION:Vystoupení žáků všech tříd včetně mateřské školky.
LOCATION:Kulturní dům Světlá Hora
URL:https://svetlahora.cz/akce/14/
END:VEVENT
END:VCALENDAR
