BEGIN:VCALENDAR
VERSION:2.0
PRODID:-//Světlá Hora//Web//CS
CALSCALE:GREGORIAN
METHOD:PUBLISH
BEGIN:VEVENT
UID:8@svetlahora.cz
DTSTAMP:20260420T053605Z
DTSTART;VALUE=DATE:20260516
DTEND;VALUE=DATE:20260516
SUMMARY:Vaření kotlíkového guláše
DESCRIPTION:se vzpomínkou na Vaška Kovaříka
LOCATION:areál světlohorského rybníka
URL:https://svetlahora.cz/akce/8/
END:VEVENT
END:VCALENDAR
