BEGIN:VCALENDAR
VERSION:2.0
PRODID:-//Světlá Hora//Web//CS
CALSCALE:GREGORIAN
METHOD:PUBLISH
BEGIN:VEVENT
UID:5@svetlahora.cz
DTSTAMP:20260420T053155Z
DTSTART;VALUE=DATE:20260418
DTEND;VALUE=DATE:20260419
SUMMARY:Výstava kostek Bruntál
DESCRIPTION:Výstava kostek Bruntál
LOCATION:
URL:https://svetlahora.cz/akce/5/
END:VEVENT
END:VCALENDAR
