BEGIN:VCALENDAR
VERSION:2.0
PRODID:-//Světlá Hora//Web//CS
CALSCALE:GREGORIAN
METHOD:PUBLISH
BEGIN:VEVENT
UID:12@svetlahora.cz
DTSTAMP:20260424T121404Z
DTSTART:20260530T160000
DTEND:20260530
SUMMARY:Pozvánka na kácení máje
DESCRIPTION:Kácení máje v Suché Rudné
LOCATION:Suchá Rudná  náměstíčko U Rakety
URL:https://svetlahora.cz/akce/12/
END:VEVENT
END:VCALENDAR
